BEGIN:VCALENDAR
VERSION:2.0
PRODID:-//Redeemer Christian Academy - ECPv6.15.20//NONSGML v1.0//EN
CALSCALE:GREGORIAN
METHOD:PUBLISH
X-ORIGINAL-URL:https://redeemerchristianacademy.com
X-WR-CALDESC:Events for Redeemer Christian Academy
REFRESH-INTERVAL;VALUE=DURATION:PT1H
X-Robots-Tag:noindex
X-PUBLISHED-TTL:PT1H
BEGIN:VTIMEZONE
TZID:America/Los_Angeles
BEGIN:DAYLIGHT
TZOFFSETFROM:-0800
TZOFFSETTO:-0700
TZNAME:PDT
DTSTART:20240310T100000
END:DAYLIGHT
BEGIN:STANDARD
TZOFFSETFROM:-0700
TZOFFSETTO:-0800
TZNAME:PST
DTSTART:20241103T090000
END:STANDARD
BEGIN:DAYLIGHT
TZOFFSETFROM:-0800
TZOFFSETTO:-0700
TZNAME:PDT
DTSTART:20250309T100000
END:DAYLIGHT
BEGIN:STANDARD
TZOFFSETFROM:-0700
TZOFFSETTO:-0800
TZNAME:PST
DTSTART:20251102T090000
END:STANDARD
BEGIN:DAYLIGHT
TZOFFSETFROM:-0800
TZOFFSETTO:-0700
TZNAME:PDT
DTSTART:20260308T100000
END:DAYLIGHT
BEGIN:STANDARD
TZOFFSETFROM:-0700
TZOFFSETTO:-0800
TZNAME:PST
DTSTART:20261101T090000
END:STANDARD
END:VTIMEZONE
BEGIN:VEVENT
DTSTART;TZID=America/Los_Angeles:20250903T070000
DTEND;TZID=America/Los_Angeles:20250903T180000
DTSTAMP:20260424T085417
CREATED:20250716T015023Z
LAST-MODIFIED:20250716T020318Z
UID:10000003-1756882800-1756922400@redeemerchristianacademy.com
SUMMARY:First Day of School
DESCRIPTION:First Day of School: Wednesday\, September 3\, 2025\nWelcome to a Joyful Beginning at Redeemer Christian Academy & Pueblito de Luz \nThe 2025–2026 school year begins Tuesday\, September 3\, and we’re excited to welcome both new and returning families! \nAt Pueblito de Luz\, our brand-new Spanish immersion preschool\, many children will be starting school for the very first time. We know how special—and emotional—this milestone can be. Our caring staff will be ready to greet each child with warmth\, patience\, and excitement to help them feel safe\, celebrated\, and ready to begin their learning journey. \nAt Redeemer Christian Academy\, we welcome students in Kindergarten through 6th grade with an expanded vision rooted in dual-language learning\, the arts\, and whole-child development. \nWhether your child is stepping into school for the very first time or returning for another year of growth\, we’re here to make their first day joyful and memorable. \nFirst Day: Tuesday\, September 3\, 2025Location: Redeemer Christian Academy & Pueblito de LuzRegular Hours: \n\nMonday–Friday: 7:00 AM – 6:00 PM\nSaturday–Sunday: Closed\n\nDoors open at 7:00 AM. Staff will be ready to support new students and ease first-day jitters. Light welcome activities will be available in the morning for Pueblito de Luz students.
URL:https://redeemerchristianacademy.com/event/first-day-of-school/
LOCATION:Redeemer Christian Academy\, 10792 National Blvd\, Los Angeles\, CA\, 90064\, United States
ATTACH;FMTTYPE=image/png:https://redeemerchristianacademy.com/wp-content/uploads/2025/07/First-Day-of-School-1.png
ORGANIZER;CN="Redeemer Christian Academy":MAILTO:admin@rcaschools.com
END:VEVENT
BEGIN:VEVENT
DTSTART;TZID=America/Los_Angeles:20250814T173000
DTEND;TZID=America/Los_Angeles:20250814T203000
DTSTAMP:20260424T085417
CREATED:20250714T194827Z
LAST-MODIFIED:20250722T023526Z
UID:10000001-1755192600-1755203400@redeemerchristianacademy.com
SUMMARY:Open House & Orientation
DESCRIPTION:You’re Invited to\nRedeemer Christian Academy Open House\nCome see how your voices helped reimagine education—together.\nAll are welcome—bring your entire family and friends for a joyful and inspiring evening! \n\nDate:      Thursday\, August 14 2025\nTime:      5:30pm – 8:30pm\nWhere:  Redeemer Christian Academy\, 10792 National Blvd\, Los Angeles\, CA 90064\nCost:       No Cost\, But RSVP via Link\nRSVP:    By Friday\, August 8\, 2025 – RSVP link here and fee free to submit a questions you want answers to\nLink:      https://redeemerchristianacademy.com/event-rsvp/\n\nCome See the New RCA and Meet Our Team\nTogether\, We’ve Reimagined RCA as More Than a School—It’s a Vibrant Community Hub\n\nA welcoming space for children\, families\, and the entire neighborhood\nBefore- and after-school care\nDay camps and youth sports\nEnrichment classes and weekend field trips\nSpecial events for all ages\nComing soon: Dual-language infant & preschool program\nNow offering transportation!\nPlus: Big things are happening for K–6!\n\nThank you for helping us reimagine what’s possible at RCA—your voice has shaped something truly meaningful. Together\, we’re building a faith-centered\, academically strong neighborhood hub—one that celebrates culture\, fosters connection\, and prepares children to thrive in a diverse and evolving world.\nOpen House Program\n\n5:30 to 8:15 pm (courtyard) – School Information & Resource Fair\n5:30 to 6:30 pm – Light refreshments\, classroom tours & student artist experience (blacktop)\n6:30 to 7 pm –  Meet & greet with our RCA Team\, Board of Trustees\, & highlights about the school year ahead (hall) & student STEM activities (blacktop)\n7:00 to 7:30 pm –  Dinner\, music\, parent networking (hall)\, & student recreational activities\n(blacktop)\n7:30 to 8:30 pm –  Band performance (courtyard)\, parent survey raffle & student volleyball game (blacktop)\n\nRemember to RSVP by August 8\, 2025 here\nAll submission will go to Ms Bahati\, RCA Office Manager\, \n  \n 
URL:https://redeemerchristianacademy.com/event/open-house-orientation/
LOCATION:Redeemer Christian Academy\, 10792 National Blvd\, Los Angeles\, CA\, 90064\, United States
ATTACH;FMTTYPE=image/png:https://redeemerchristianacademy.com/wp-content/uploads/2025/07/Event-Image_Open-House-8-14-25.png
ORGANIZER;CN="Redeemer Christian Academy":MAILTO:admin@rcaschools.com
END:VEVENT
END:VCALENDAR